BEGIN:VCALENDAR
VERSION:2.0
PRODID:-//Earth Activist Training - ECPv6.15.14//NONSGML v1.0//EN
CALSCALE:GREGORIAN
METHOD:PUBLISH
X-ORIGINAL-URL:https://earthactivisttraining.org
X-WR-CALDESC:Events for Earth Activist Training
REFRESH-INTERVAL;VALUE=DURATION:PT1H
X-Robots-Tag:noindex
X-PUBLISHED-TTL:PT1H
BEGIN:VTIMEZONE
TZID:America/Los_Angeles
BEGIN:DAYLIGHT
TZOFFSETFROM:-0800
TZOFFSETTO:-0700
TZNAME:PDT
DTSTART:20240310T100000
END:DAYLIGHT
BEGIN:STANDARD
TZOFFSETFROM:-0700
TZOFFSETTO:-0800
TZNAME:PST
DTSTART:20241103T090000
END:STANDARD
BEGIN:DAYLIGHT
TZOFFSETFROM:-0800
TZOFFSETTO:-0700
TZNAME:PDT
DTSTART:20250309T100000
END:DAYLIGHT
BEGIN:STANDARD
TZOFFSETFROM:-0700
TZOFFSETTO:-0800
TZNAME:PST
DTSTART:20251102T090000
END:STANDARD
BEGIN:DAYLIGHT
TZOFFSETFROM:-0800
TZOFFSETTO:-0700
TZNAME:PDT
DTSTART:20260308T100000
END:DAYLIGHT
BEGIN:STANDARD
TZOFFSETFROM:-0700
TZOFFSETTO:-0800
TZNAME:PST
DTSTART:20261101T090000
END:STANDARD
END:VTIMEZONE
BEGIN:VEVENT
DTSTART;TZID=America/Los_Angeles:20250501T180000
DTEND;TZID=America/Los_Angeles:20250501T200000
DTSTAMP:20260425T134959
CREATED:20241029T013840Z
LAST-MODIFIED:20250212T155959Z
UID:10000623-1746122400-1746129600@earthactivisttraining.org
SUMMARY:Advanced Permaculture - Soil & Animals
DESCRIPTION:Understanding soil is key to any resilient land design. Come learn how to build healthy living soils for vibrant landscapes and resilient communities. Taught by senior instructors Starhawk and Charles Williams\, this class will guide you through the art and science of building soils for productive landscapes.  You can take this class as a stand-alone class for personal growth\, or as the third module in a four-part Advanced Permaculture certificate program. Course will cover: BUILDING SOIL & CARBON Soil Analysis: Learn the ecology behind the regenerative theory of soil management. Gain skills in soil biology\, chemistry\, and structural analysis.\n\nStrategies for Soil Healing and Management: Examine regenerative soil strategies ranging from small urban settings to large-scale farming systems. Learn how to build and maintain healthy soils through techniques such as no-till\, compost teas\, ferments\, crop covers\, and biochar.\n\nApplied learning: Take what is taught in class and apply it in the real world. Through class exercises and case studies write your own soil management plan.LAND MANAGEMENT WITH ANIMALS & FIRE Integrating Animals Into Ecological Systems: Learn how to design wildlife and domestic animals into systems for resilience and restoration.\n\nPractical Soil Management with Animals: Explore the role of animals in building soil\, sequestering carbon\, and improving ecological resilience.\n\nPerennial Systems Thinking: Integrate animals\, perennial plants and a systems approach to write your own holistic animal and perennial system design.To learn more\, please visit the Advanced Permaculture – Soil & Animals webpage or register below. GET MORE INFORMATION  >Register Now
URL:https://earthactivisttraining.org/event/advanced-permaculture-soil-animals/2025-05-01/
CATEGORIES:Advanced,Certificate/Diploma,Course,Land Stewardship,Online
ATTACH;FMTTYPE=image/png:https://earthactivisttraining.org/wp-content/uploads/2024/10/Soil-AP-updated.png
END:VEVENT
BEGIN:VEVENT
DTSTART;TZID=America/Los_Angeles:20250508T180000
DTEND;TZID=America/Los_Angeles:20250508T200000
DTSTAMP:20260425T134959
CREATED:20241029T013840Z
LAST-MODIFIED:20250212T155959Z
UID:10000624-1746727200-1746734400@earthactivisttraining.org
SUMMARY:Advanced Permaculture - Soil & Animals
DESCRIPTION:Understanding soil is key to any resilient land design. Come learn how to build healthy living soils for vibrant landscapes and resilient communities. Taught by senior instructors Starhawk and Charles Williams\, this class will guide you through the art and science of building soils for productive landscapes.  You can take this class as a stand-alone class for personal growth\, or as the third module in a four-part Advanced Permaculture certificate program. Course will cover: BUILDING SOIL & CARBON Soil Analysis: Learn the ecology behind the regenerative theory of soil management. Gain skills in soil biology\, chemistry\, and structural analysis.\n\nStrategies for Soil Healing and Management: Examine regenerative soil strategies ranging from small urban settings to large-scale farming systems. Learn how to build and maintain healthy soils through techniques such as no-till\, compost teas\, ferments\, crop covers\, and biochar.\n\nApplied learning: Take what is taught in class and apply it in the real world. Through class exercises and case studies write your own soil management plan.LAND MANAGEMENT WITH ANIMALS & FIRE Integrating Animals Into Ecological Systems: Learn how to design wildlife and domestic animals into systems for resilience and restoration.\n\nPractical Soil Management with Animals: Explore the role of animals in building soil\, sequestering carbon\, and improving ecological resilience.\n\nPerennial Systems Thinking: Integrate animals\, perennial plants and a systems approach to write your own holistic animal and perennial system design.To learn more\, please visit the Advanced Permaculture – Soil & Animals webpage or register below. GET MORE INFORMATION  >Register Now
URL:https://earthactivisttraining.org/event/advanced-permaculture-soil-animals/2025-05-08/
CATEGORIES:Advanced,Certificate/Diploma,Course,Land Stewardship,Online
ATTACH;FMTTYPE=image/png:https://earthactivisttraining.org/wp-content/uploads/2024/10/Soil-AP-updated.png
END:VEVENT
BEGIN:VEVENT
DTSTART;TZID=America/Los_Angeles:20250513T180000
DTEND;TZID=America/Los_Angeles:20250513T200000
DTSTAMP:20260425T134959
CREATED:20250331T153600Z
LAST-MODIFIED:20250503T182920Z
UID:10000827-1747159200-1747166400@earthactivisttraining.org
SUMMARY:Introduction to Natural Building
DESCRIPTION:EAT is excited to offer this four-week online natural building class to get you started on your natural building journey. Over our four weeks together\, we will explore a variety of traditional and contemporary natural building materials and methods. This series will cover a wide range of strategies and materials used in natural buildings. Participants will explore the major elements of natural building design and construction. We will start with building site selection\, then journey through the vast world of wall systems\, and conclude with roof systems and options for foundations.  Week 1: Codes\, site selection\, passive heating\, and coolingWeek 2: Infill wall systems\, heating\, and moisture controlWeek 3: Load-bearing wall systems and carbon-sequestering buildingsWeek 4: Foundations and roofs To learn more\, please visit the Introduction to Natural Building webpage or register below. GET MORE INFORMATION  >Register Now
URL:https://earthactivisttraining.org/event/introduction-to-natural-building/2025-05-13/
CATEGORIES:Course,Natural Building,Online
ATTACH;FMTTYPE=image/png:https://earthactivisttraining.org/wp-content/uploads/2025/05/0525-Natural-Building-.png
END:VEVENT
BEGIN:VEVENT
DTSTART;TZID=America/Los_Angeles:20250515T180000
DTEND;TZID=America/Los_Angeles:20250515T200000
DTSTAMP:20260425T134959
CREATED:20241029T013840Z
LAST-MODIFIED:20250212T155959Z
UID:10000625-1747332000-1747339200@earthactivisttraining.org
SUMMARY:Advanced Permaculture - Soil & Animals
DESCRIPTION:Understanding soil is key to any resilient land design. Come learn how to build healthy living soils for vibrant landscapes and resilient communities. Taught by senior instructors Starhawk and Charles Williams\, this class will guide you through the art and science of building soils for productive landscapes.  You can take this class as a stand-alone class for personal growth\, or as the third module in a four-part Advanced Permaculture certificate program. Course will cover: BUILDING SOIL & CARBON Soil Analysis: Learn the ecology behind the regenerative theory of soil management. Gain skills in soil biology\, chemistry\, and structural analysis.\n\nStrategies for Soil Healing and Management: Examine regenerative soil strategies ranging from small urban settings to large-scale farming systems. Learn how to build and maintain healthy soils through techniques such as no-till\, compost teas\, ferments\, crop covers\, and biochar.\n\nApplied learning: Take what is taught in class and apply it in the real world. Through class exercises and case studies write your own soil management plan.LAND MANAGEMENT WITH ANIMALS & FIRE Integrating Animals Into Ecological Systems: Learn how to design wildlife and domestic animals into systems for resilience and restoration.\n\nPractical Soil Management with Animals: Explore the role of animals in building soil\, sequestering carbon\, and improving ecological resilience.\n\nPerennial Systems Thinking: Integrate animals\, perennial plants and a systems approach to write your own holistic animal and perennial system design.To learn more\, please visit the Advanced Permaculture – Soil & Animals webpage or register below. GET MORE INFORMATION  >Register Now
URL:https://earthactivisttraining.org/event/advanced-permaculture-soil-animals/2025-05-15/
CATEGORIES:Advanced,Certificate/Diploma,Course,Land Stewardship,Online
ATTACH;FMTTYPE=image/png:https://earthactivisttraining.org/wp-content/uploads/2024/10/Soil-AP-updated.png
END:VEVENT
BEGIN:VEVENT
DTSTART;TZID=America/Los_Angeles:20250520T180000
DTEND;TZID=America/Los_Angeles:20250520T200000
DTSTAMP:20260425T134959
CREATED:20250331T153600Z
LAST-MODIFIED:20250503T182920Z
UID:10000828-1747764000-1747771200@earthactivisttraining.org
SUMMARY:Introduction to Natural Building
DESCRIPTION:EAT is excited to offer this four-week online natural building class to get you started on your natural building journey. Over our four weeks together\, we will explore a variety of traditional and contemporary natural building materials and methods. This series will cover a wide range of strategies and materials used in natural buildings. Participants will explore the major elements of natural building design and construction. We will start with building site selection\, then journey through the vast world of wall systems\, and conclude with roof systems and options for foundations.  Week 1: Codes\, site selection\, passive heating\, and coolingWeek 2: Infill wall systems\, heating\, and moisture controlWeek 3: Load-bearing wall systems and carbon-sequestering buildingsWeek 4: Foundations and roofs To learn more\, please visit the Introduction to Natural Building webpage or register below. GET MORE INFORMATION  >Register Now
URL:https://earthactivisttraining.org/event/introduction-to-natural-building/2025-05-20/
CATEGORIES:Course,Natural Building,Online
ATTACH;FMTTYPE=image/png:https://earthactivisttraining.org/wp-content/uploads/2025/05/0525-Natural-Building-.png
END:VEVENT
BEGIN:VEVENT
DTSTART;TZID=America/Los_Angeles:20250522T180000
DTEND;TZID=America/Los_Angeles:20250522T200000
DTSTAMP:20260425T134959
CREATED:20241029T150836Z
LAST-MODIFIED:20241029T150838Z
UID:10000645-1747936800-1747944000@earthactivisttraining.org
SUMMARY:Sustainable Infrastructure
DESCRIPTION:Learn the fundamentals of homestead scale energy systems and waste management. This class will provide the technical know-how you didn’t know you needed. Managing land ecologically is a resource-intense activity that requires finding a balance between consumption\, ecological impact\, and financial solvency. We will look at how to balance these often complex and sometimes competing needs. The focus of this class is on small scale energy systems\, material choices\, and waste management. We will explore how to design\, maintain and manage energy systems\, integrate cyclic waste management strategies\, and find low-impact materials for landed projects. To learn more\, please visit the Sustainable Infrastructure webpage or register below. GET MORE INFORMATION  >Register Now
URL:https://earthactivisttraining.org/event/sustainable-infrastructure/2025-05-22/
CATEGORIES:Advanced,Certificate/Diploma,Course,Land Stewardship,Online
ATTACH;FMTTYPE=image/png:https://earthactivisttraining.org/wp-content/uploads/2023/10/Sust-infrastructure-700X400-v2.png
END:VEVENT
BEGIN:VEVENT
DTSTART;TZID=America/Los_Angeles:20250527T180000
DTEND;TZID=America/Los_Angeles:20250527T200000
DTSTAMP:20260425T134959
CREATED:20250331T153600Z
LAST-MODIFIED:20250503T182920Z
UID:10000829-1748368800-1748376000@earthactivisttraining.org
SUMMARY:Introduction to Natural Building
DESCRIPTION:EAT is excited to offer this four-week online natural building class to get you started on your natural building journey. Over our four weeks together\, we will explore a variety of traditional and contemporary natural building materials and methods. This series will cover a wide range of strategies and materials used in natural buildings. Participants will explore the major elements of natural building design and construction. We will start with building site selection\, then journey through the vast world of wall systems\, and conclude with roof systems and options for foundations.  Week 1: Codes\, site selection\, passive heating\, and coolingWeek 2: Infill wall systems\, heating\, and moisture controlWeek 3: Load-bearing wall systems and carbon-sequestering buildingsWeek 4: Foundations and roofs To learn more\, please visit the Introduction to Natural Building webpage or register below. GET MORE INFORMATION  >Register Now
URL:https://earthactivisttraining.org/event/introduction-to-natural-building/2025-05-27/
CATEGORIES:Course,Natural Building,Online
ATTACH;FMTTYPE=image/png:https://earthactivisttraining.org/wp-content/uploads/2025/05/0525-Natural-Building-.png
END:VEVENT
BEGIN:VEVENT
DTSTART;TZID=America/Los_Angeles:20250529T180000
DTEND;TZID=America/Los_Angeles:20250529T200000
DTSTAMP:20260425T134959
CREATED:20241029T150836Z
LAST-MODIFIED:20241029T150838Z
UID:10000646-1748541600-1748548800@earthactivisttraining.org
SUMMARY:Sustainable Infrastructure
DESCRIPTION:Learn the fundamentals of homestead scale energy systems and waste management. This class will provide the technical know-how you didn’t know you needed. Managing land ecologically is a resource-intense activity that requires finding a balance between consumption\, ecological impact\, and financial solvency. We will look at how to balance these often complex and sometimes competing needs. The focus of this class is on small scale energy systems\, material choices\, and waste management. We will explore how to design\, maintain and manage energy systems\, integrate cyclic waste management strategies\, and find low-impact materials for landed projects. To learn more\, please visit the Sustainable Infrastructure webpage or register below. GET MORE INFORMATION  >Register Now
URL:https://earthactivisttraining.org/event/sustainable-infrastructure/2025-05-29/
CATEGORIES:Advanced,Certificate/Diploma,Course,Land Stewardship,Online
ATTACH;FMTTYPE=image/png:https://earthactivisttraining.org/wp-content/uploads/2023/10/Sust-infrastructure-700X400-v2.png
END:VEVENT
END:VCALENDAR