BEGIN:VCALENDAR
VERSION:2.0
PRODID:-//Earth Activist Training - ECPv6.15.14//NONSGML v1.0//EN
CALSCALE:GREGORIAN
METHOD:PUBLISH
X-WR-CALNAME:Earth Activist Training
X-ORIGINAL-URL:https://earthactivisttraining.org
X-WR-CALDESC:Events for Earth Activist Training
REFRESH-INTERVAL;VALUE=DURATION:PT1H
X-Robots-Tag:noindex
X-PUBLISHED-TTL:PT1H
BEGIN:VTIMEZONE
TZID:America/Los_Angeles
BEGIN:DAYLIGHT
TZOFFSETFROM:-0800
TZOFFSETTO:-0700
TZNAME:PDT
DTSTART:20250309T100000
END:DAYLIGHT
BEGIN:STANDARD
TZOFFSETFROM:-0700
TZOFFSETTO:-0800
TZNAME:PST
DTSTART:20251102T090000
END:STANDARD
BEGIN:DAYLIGHT
TZOFFSETFROM:-0800
TZOFFSETTO:-0700
TZNAME:PDT
DTSTART:20260308T100000
END:DAYLIGHT
BEGIN:STANDARD
TZOFFSETFROM:-0700
TZOFFSETTO:-0800
TZNAME:PST
DTSTART:20261101T090000
END:STANDARD
BEGIN:DAYLIGHT
TZOFFSETFROM:-0800
TZOFFSETTO:-0700
TZNAME:PDT
DTSTART:20270314T100000
END:DAYLIGHT
BEGIN:STANDARD
TZOFFSETFROM:-0700
TZOFFSETTO:-0800
TZNAME:PST
DTSTART:20271107T090000
END:STANDARD
END:VTIMEZONE
BEGIN:VEVENT
DTSTART;TZID=America/Los_Angeles:20260428T160000
DTEND;TZID=America/Los_Angeles:20260428T180000
DTSTAMP:20260424T134321
CREATED:20260211T142952Z
LAST-MODIFIED:20260416T160504Z
UID:10001118-1777392000-1777399200@earthactivisttraining.org
SUMMARY:Introduction to Permaculture
DESCRIPTION:What is an Introduction to Permaculture? Introduction to Permaculture is a great place to start your Permaculture Journey.  This class will orient you to Permaculture and provide a solid grounding in its history\, philosophy\, and core tools used in permaculture design.  WHO IS THIS COURSE FOR? EVERYONE!We firmly believe that everyone can benefit from learning how to apply the tools and insights of permaculture toward the broad goal of earth regeneration. Permaculture has solutions not just for landscapes and agricultural systems\, but also for social design\, public policy\, and survival strategies for these challenging times. To learn more\, please visit the Introduction to Permaculture webpage or register below. GET MORE INFORMATION  >Register Now \n\n                \n                        Contact InformationPreferred Name(Required)How would you like us to refer to you?\n                            \n                            \n                                                    First\n                                                    \n                                                \n                            \n                            \n                                                            Last\n                                                            \n                                                        \n                            \n                        PronounsSelectShe/herThey/themHe/himPrefer not to sayotherWhat pronone would you like us to use refering to you?Other NameDo you have another name we need to know for tracking your payments or homework submission. \n                            \n                            \n                                                    Other First\n                                                    \n                                                \n                            \n                            \n                                                            Other Last\n                                                            \n                                                        \n                            \n                        E-mail(Required)\n                            \n                        Phone NumberAddress(Required)    \n                    \n                        \n                                    City\n                                    \n                                 \n                                        State / Province / Region\n                                        \n                                      \n                                    ZIP / Postal Code\n                                    \n                                \n                                        Country\n                                        AfghanistanAlbaniaAlgeriaAmerican SamoaAndorraAngolaAnguillaAntarcticaAntigua and BarbudaArgentinaArmeniaArubaAustraliaAustriaAzerbaijanBahamasBahrainBangladeshBarbadosBelarusBelgiumBelizeBeninBermudaBhutanBoliviaBonaire\, Sint Eustatius and SabaBosnia and HerzegovinaBotswanaBouvet IslandBrazilBritish Indian Ocean TerritoryBrunei DarussalamBulgariaBurkina FasoBurundiCabo VerdeCambodiaCameroonCanadaCayman IslandsCentral African RepublicChadChileChinaChristmas IslandCocos IslandsColombiaComorosCongoCongo\, Democratic Republic of theCook IslandsCosta RicaCroatiaCubaCuraçaoCyprusCzechiaCôte d'IvoireDenmarkDjiboutiDominicaDominican RepublicEcuadorEgyptEl SalvadorEquatorial GuineaEritreaEstoniaEswatiniEthiopiaFalkland IslandsFaroe IslandsFijiFinlandFranceFrench GuianaFrench PolynesiaFrench Southern TerritoriesGabonGambiaGeorgiaGermanyGhanaGibraltarGreeceGreenlandGrenadaGuadeloupeGuamGuatemalaGuernseyGuineaGuinea-BissauGuyanaHaitiHeard Island and McDonald IslandsHoly SeeHondurasHong KongHungaryIcelandIndiaIndonesiaIranIraqIrelandIsle of ManIsraelItalyJamaicaJapanJerseyJordanKazakhstanKenyaKiribatiKorea\, Democratic People's Republic ofKorea\, Republic ofKuwaitKyrgyzstanLao People's Democratic RepublicLatviaLebanonLesothoLiberiaLibyaLiechtensteinLithuaniaLuxembourgMacaoMadagascarMalawiMalaysiaMaldivesMaliMaltaMarshall IslandsMartiniqueMauritaniaMauritiusMayotteMexicoMicronesiaMoldovaMonacoMongoliaMontenegroMontserratMoroccoMozambiqueMyanmarNamibiaNauruNepalNetherlandsNew CaledoniaNew ZealandNicaraguaNigerNigeriaNiueNorfolk IslandNorth MacedoniaNorthern Mariana IslandsNorwayOmanPakistanPalauPalestine\, State ofPanamaPapua New GuineaParaguayPeruPhilippinesPitcairnPolandPortugalPuerto RicoQatarRomaniaRussian FederationRwandaRéunionSaint BarthélemySaint Helena\, Ascension and Tristan da CunhaSaint Kitts and NevisSaint LuciaSaint MartinSaint Pierre and MiquelonSaint Vincent and the GrenadinesSamoaSan MarinoSao Tome and PrincipeSaudi ArabiaSenegalSerbiaSeychellesSierra LeoneSingaporeSint MaartenSlovakiaSloveniaSolomon IslandsSomaliaSouth AfricaSouth Georgia and the South Sandwich IslandsSouth SudanSpainSri LankaSudanSurinameSvalbard and Jan MayenSwedenSwitzerlandSyria Arab RepublicTaiwanTajikistanTanzania\, the United Republic ofThailandTimor-LesteTogoTokelauTongaTrinidad and TobagoTunisiaTurkmenistanTurks and Caicos IslandsTuvaluTürkiyeUS Minor Outlying IslandsUgandaUkraineUnited Arab EmiratesUnited KingdomUnited StatesUruguayUzbekistanVanuatuVenezuelaViet NamVirgin Islands\, BritishVirgin Islands\, U.S.Wallis and FutunaWestern SaharaYemenZambiaZimbabweÅland Islands \n                                    \n                    \n                About YouHow did you hear about this course?Earth Activist Training's websiteEarth Activist Training's social media or newsletterStarhawk's social media or newsletterFellow Earth ActivistPermaculture Institue of North America (PINA)Chris Gilmour (ChrisOutdoors)The Deanery ProjectOtherWho refered you to Earth Activist TrainingPersonal GoalsWhat goals do you have for taking this course? Accessibility and SupportYou are welcome to share with us: Do you have physical accessibility or learning needs? What should we know to better support your learning journey?PaymentPrice – By DonationCourse registration is pay what you can with a suggestion of $100. All amounts appreciated.\n					\n				We welcome you to contribute $6 to help offset the transaction fee.(Required)\n			\n					\n					Yes + $6\n			\n			\n					\n					No\n			Payment MethodPayPal CheckoutCredit Card\n                                    MasterCardVisaSupported Credit Cards: MasterCard\, Visa\n                                    Card Number\n                                    \n                                 \n                                            \n                                                Expiration Date\n                                                \n                                            \n                                                Security Code\n                                                \n                                                 \n                                             \n                                        \n                                            Cardholder Name\n                                            \n                                         Total\n							\n						Refund policy(Required)To view our refund policy\, please visit our FAQ page at https://earthactivisttraining.org/about/faq/ I agree to the refund policy.Newsletter(Required)As part of this class you will be added to the EAT announcement list. You will be sent information relevant to this class\, such as the welcome letter\, class zoom link (if applicable)\, class announcements\, and updates. If one more list is to much you can unsubscribe after the class using the button at the bottom of our announcement newsletter. I would like to recieve the EAT newsletter and information about special offers.TEXT (SMS) reminderCheck here if you would like to get a TEXT message (SMS) reminder before class begins. I would like to recieve a TEXT message reminder before class\n          \n            \n            \n            \n            \n            \n            \n            \n            \n            \n            \n            \n            \n            \n        \n                        Δ
URL:https://earthactivisttraining.org/event/introduction-to-permaculture-2/2026-04-28/
CATEGORIES:Course,Land Stewardship,Online
ATTACH;FMTTYPE=image/png:https://earthactivisttraining.org/wp-content/uploads/2024/03/Intro-to-permi-Spring.png
END:VEVENT
BEGIN:VEVENT
DTSTART;TZID=America/Los_Angeles:20260505T160000
DTEND;TZID=America/Los_Angeles:20260505T180000
DTSTAMP:20260424T134321
CREATED:20260211T142952Z
LAST-MODIFIED:20260416T160504Z
UID:10001119-1777996800-1778004000@earthactivisttraining.org
SUMMARY:Introduction to Permaculture
DESCRIPTION:What is an Introduction to Permaculture? Introduction to Permaculture is a great place to start your Permaculture Journey.  This class will orient you to Permaculture and provide a solid grounding in its history\, philosophy\, and core tools used in permaculture design.  WHO IS THIS COURSE FOR? EVERYONE!We firmly believe that everyone can benefit from learning how to apply the tools and insights of permaculture toward the broad goal of earth regeneration. Permaculture has solutions not just for landscapes and agricultural systems\, but also for social design\, public policy\, and survival strategies for these challenging times. To learn more\, please visit the Introduction to Permaculture webpage or register below. GET MORE INFORMATION  >Register Now \n                        Contact InformationPreferred Name(Required)How would you like us to refer to you?\n                            \n                            \n                                                    First\n                                                    \n                                                \n                            \n                            \n                                                            Last\n                                                            \n                                                        \n                            \n                        PronounsSelectShe/herThey/themHe/himPrefer not to sayotherWhat pronone would you like us to use refering to you?Other NameDo you have another name we need to know for tracking your payments or homework submission. \n                            \n                            \n                                                    Other First\n                                                    \n                                                \n                            \n                            \n                                                            Other Last\n                                                            \n                                                        \n                            \n                        E-mail(Required)\n                            \n                        Phone NumberAddress(Required)    \n                    \n                        \n                                    City\n                                    \n                                 \n                                        State / Province / Region\n                                        \n                                      \n                                    ZIP / Postal Code\n                                    \n                                \n                                        Country\n                                        AfghanistanAlbaniaAlgeriaAmerican SamoaAndorraAngolaAnguillaAntarcticaAntigua and BarbudaArgentinaArmeniaArubaAustraliaAustriaAzerbaijanBahamasBahrainBangladeshBarbadosBelarusBelgiumBelizeBeninBermudaBhutanBoliviaBonaire\, Sint Eustatius and SabaBosnia and HerzegovinaBotswanaBouvet IslandBrazilBritish Indian Ocean TerritoryBrunei DarussalamBulgariaBurkina FasoBurundiCabo VerdeCambodiaCameroonCanadaCayman IslandsCentral African RepublicChadChileChinaChristmas IslandCocos IslandsColombiaComorosCongoCongo\, Democratic Republic of theCook IslandsCosta RicaCroatiaCubaCuraçaoCyprusCzechiaCôte d'IvoireDenmarkDjiboutiDominicaDominican RepublicEcuadorEgyptEl SalvadorEquatorial GuineaEritreaEstoniaEswatiniEthiopiaFalkland IslandsFaroe IslandsFijiFinlandFranceFrench GuianaFrench PolynesiaFrench Southern TerritoriesGabonGambiaGeorgiaGermanyGhanaGibraltarGreeceGreenlandGrenadaGuadeloupeGuamGuatemalaGuernseyGuineaGuinea-BissauGuyanaHaitiHeard Island and McDonald IslandsHoly SeeHondurasHong KongHungaryIcelandIndiaIndonesiaIranIraqIrelandIsle of ManIsraelItalyJamaicaJapanJerseyJordanKazakhstanKenyaKiribatiKorea\, Democratic People's Republic ofKorea\, Republic ofKuwaitKyrgyzstanLao People's Democratic RepublicLatviaLebanonLesothoLiberiaLibyaLiechtensteinLithuaniaLuxembourgMacaoMadagascarMalawiMalaysiaMaldivesMaliMaltaMarshall IslandsMartiniqueMauritaniaMauritiusMayotteMexicoMicronesiaMoldovaMonacoMongoliaMontenegroMontserratMoroccoMozambiqueMyanmarNamibiaNauruNepalNetherlandsNew CaledoniaNew ZealandNicaraguaNigerNigeriaNiueNorfolk IslandNorth MacedoniaNorthern Mariana IslandsNorwayOmanPakistanPalauPalestine\, State ofPanamaPapua New GuineaParaguayPeruPhilippinesPitcairnPolandPortugalPuerto RicoQatarRomaniaRussian FederationRwandaRéunionSaint BarthélemySaint Helena\, Ascension and Tristan da CunhaSaint Kitts and NevisSaint LuciaSaint MartinSaint Pierre and MiquelonSaint Vincent and the GrenadinesSamoaSan MarinoSao Tome and PrincipeSaudi ArabiaSenegalSerbiaSeychellesSierra LeoneSingaporeSint MaartenSlovakiaSloveniaSolomon IslandsSomaliaSouth AfricaSouth Georgia and the South Sandwich IslandsSouth SudanSpainSri LankaSudanSurinameSvalbard and Jan MayenSwedenSwitzerlandSyria Arab RepublicTaiwanTajikistanTanzania\, the United Republic ofThailandTimor-LesteTogoTokelauTongaTrinidad and TobagoTunisiaTurkmenistanTurks and Caicos IslandsTuvaluTürkiyeUS Minor Outlying IslandsUgandaUkraineUnited Arab EmiratesUnited KingdomUnited StatesUruguayUzbekistanVanuatuVenezuelaViet NamVirgin Islands\, BritishVirgin Islands\, U.S.Wallis and FutunaWestern SaharaYemenZambiaZimbabweÅland Islands \n                                    \n                    \n                About YouHow did you hear about this course?Earth Activist Training's websiteEarth Activist Training's social media or newsletterStarhawk's social media or newsletterFellow Earth ActivistPermaculture Institue of North America (PINA)Chris Gilmour (ChrisOutdoors)The Deanery ProjectOtherWho refered you to Earth Activist TrainingPersonal GoalsWhat goals do you have for taking this course? Accessibility and SupportYou are welcome to share with us: Do you have physical accessibility or learning needs? What should we know to better support your learning journey?PaymentPrice – By DonationCourse registration is pay what you can with a suggestion of $100. All amounts appreciated.\n					\n				We welcome you to contribute $6 to help offset the transaction fee.(Required)\n			\n					\n					Yes + $6\n			\n			\n					\n					No\n			Payment MethodPayPal CheckoutCredit Card\n                                    MasterCardVisaSupported Credit Cards: MasterCard\, Visa\n                                    Card Number\n                                    \n                                 \n                                            \n                                                Expiration Date\n                                                \n                                            \n                                                Security Code\n                                                \n                                                 \n                                             \n                                        \n                                            Cardholder Name\n                                            \n                                         Total\n							\n						Refund policy(Required)To view our refund policy\, please visit our FAQ page at https://earthactivisttraining.org/about/faq/ I agree to the refund policy.Newsletter(Required)As part of this class you will be added to the EAT announcement list. You will be sent information relevant to this class\, such as the welcome letter\, class zoom link (if applicable)\, class announcements\, and updates. If one more list is to much you can unsubscribe after the class using the button at the bottom of our announcement newsletter. I would like to recieve the EAT newsletter and information about special offers.TEXT (SMS) reminderCheck here if you would like to get a TEXT message (SMS) reminder before class begins. I would like to recieve a TEXT message reminder before class\n          \n            \n            \n            \n            \n            \n            \n            \n            \n            \n            \n            \n            \n            \n        \n                        Δ
URL:https://earthactivisttraining.org/event/introduction-to-permaculture-2/2026-05-05/
CATEGORIES:Course,Land Stewardship,Online
ATTACH;FMTTYPE=image/png:https://earthactivisttraining.org/wp-content/uploads/2024/03/Intro-to-permi-Spring.png
END:VEVENT
BEGIN:VEVENT
DTSTART;TZID=America/Los_Angeles:20260512T160000
DTEND;TZID=America/Los_Angeles:20260512T180000
DTSTAMP:20260424T134321
CREATED:20260211T142952Z
LAST-MODIFIED:20260416T160504Z
UID:10001120-1778601600-1778608800@earthactivisttraining.org
SUMMARY:Introduction to Permaculture
DESCRIPTION:What is an Introduction to Permaculture? Introduction to Permaculture is a great place to start your Permaculture Journey.  This class will orient you to Permaculture and provide a solid grounding in its history\, philosophy\, and core tools used in permaculture design.  WHO IS THIS COURSE FOR? EVERYONE!We firmly believe that everyone can benefit from learning how to apply the tools and insights of permaculture toward the broad goal of earth regeneration. Permaculture has solutions not just for landscapes and agricultural systems\, but also for social design\, public policy\, and survival strategies for these challenging times. To learn more\, please visit the Introduction to Permaculture webpage or register below. GET MORE INFORMATION  >Register Now \n                        Contact InformationPreferred Name(Required)How would you like us to refer to you?\n                            \n                            \n                                                    First\n                                                    \n                                                \n                            \n                            \n                                                            Last\n                                                            \n                                                        \n                            \n                        PronounsSelectShe/herThey/themHe/himPrefer not to sayotherWhat pronone would you like us to use refering to you?Other NameDo you have another name we need to know for tracking your payments or homework submission. \n                            \n                            \n                                                    Other First\n                                                    \n                                                \n                            \n                            \n                                                            Other Last\n                                                            \n                                                        \n                            \n                        E-mail(Required)\n                            \n                        Phone NumberAddress(Required)    \n                    \n                        \n                                    City\n                                    \n                                 \n                                        State / Province / Region\n                                        \n                                      \n                                    ZIP / Postal Code\n                                    \n                                \n                                        Country\n                                        AfghanistanAlbaniaAlgeriaAmerican SamoaAndorraAngolaAnguillaAntarcticaAntigua and BarbudaArgentinaArmeniaArubaAustraliaAustriaAzerbaijanBahamasBahrainBangladeshBarbadosBelarusBelgiumBelizeBeninBermudaBhutanBoliviaBonaire\, Sint Eustatius and SabaBosnia and HerzegovinaBotswanaBouvet IslandBrazilBritish Indian Ocean TerritoryBrunei DarussalamBulgariaBurkina FasoBurundiCabo VerdeCambodiaCameroonCanadaCayman IslandsCentral African RepublicChadChileChinaChristmas IslandCocos IslandsColombiaComorosCongoCongo\, Democratic Republic of theCook IslandsCosta RicaCroatiaCubaCuraçaoCyprusCzechiaCôte d'IvoireDenmarkDjiboutiDominicaDominican RepublicEcuadorEgyptEl SalvadorEquatorial GuineaEritreaEstoniaEswatiniEthiopiaFalkland IslandsFaroe IslandsFijiFinlandFranceFrench GuianaFrench PolynesiaFrench Southern TerritoriesGabonGambiaGeorgiaGermanyGhanaGibraltarGreeceGreenlandGrenadaGuadeloupeGuamGuatemalaGuernseyGuineaGuinea-BissauGuyanaHaitiHeard Island and McDonald IslandsHoly SeeHondurasHong KongHungaryIcelandIndiaIndonesiaIranIraqIrelandIsle of ManIsraelItalyJamaicaJapanJerseyJordanKazakhstanKenyaKiribatiKorea\, Democratic People's Republic ofKorea\, Republic ofKuwaitKyrgyzstanLao People's Democratic RepublicLatviaLebanonLesothoLiberiaLibyaLiechtensteinLithuaniaLuxembourgMacaoMadagascarMalawiMalaysiaMaldivesMaliMaltaMarshall IslandsMartiniqueMauritaniaMauritiusMayotteMexicoMicronesiaMoldovaMonacoMongoliaMontenegroMontserratMoroccoMozambiqueMyanmarNamibiaNauruNepalNetherlandsNew CaledoniaNew ZealandNicaraguaNigerNigeriaNiueNorfolk IslandNorth MacedoniaNorthern Mariana IslandsNorwayOmanPakistanPalauPalestine\, State ofPanamaPapua New GuineaParaguayPeruPhilippinesPitcairnPolandPortugalPuerto RicoQatarRomaniaRussian FederationRwandaRéunionSaint BarthélemySaint Helena\, Ascension and Tristan da CunhaSaint Kitts and NevisSaint LuciaSaint MartinSaint Pierre and MiquelonSaint Vincent and the GrenadinesSamoaSan MarinoSao Tome and PrincipeSaudi ArabiaSenegalSerbiaSeychellesSierra LeoneSingaporeSint MaartenSlovakiaSloveniaSolomon IslandsSomaliaSouth AfricaSouth Georgia and the South Sandwich IslandsSouth SudanSpainSri LankaSudanSurinameSvalbard and Jan MayenSwedenSwitzerlandSyria Arab RepublicTaiwanTajikistanTanzania\, the United Republic ofThailandTimor-LesteTogoTokelauTongaTrinidad and TobagoTunisiaTurkmenistanTurks and Caicos IslandsTuvaluTürkiyeUS Minor Outlying IslandsUgandaUkraineUnited Arab EmiratesUnited KingdomUnited StatesUruguayUzbekistanVanuatuVenezuelaViet NamVirgin Islands\, BritishVirgin Islands\, U.S.Wallis and FutunaWestern SaharaYemenZambiaZimbabweÅland Islands \n                                    \n                    \n                About YouHow did you hear about this course?Earth Activist Training's websiteEarth Activist Training's social media or newsletterStarhawk's social media or newsletterFellow Earth ActivistPermaculture Institue of North America (PINA)Chris Gilmour (ChrisOutdoors)The Deanery ProjectOtherWho refered you to Earth Activist TrainingPersonal GoalsWhat goals do you have for taking this course? Accessibility and SupportYou are welcome to share with us: Do you have physical accessibility or learning needs? What should we know to better support your learning journey?PaymentPrice – By DonationCourse registration is pay what you can with a suggestion of $100. All amounts appreciated.\n					\n				We welcome you to contribute $6 to help offset the transaction fee.(Required)\n			\n					\n					Yes + $6\n			\n			\n					\n					No\n			Payment MethodPayPal CheckoutCredit Card\n                                    MasterCardVisaSupported Credit Cards: MasterCard\, Visa\n                                    Card Number\n                                    \n                                 \n                                            \n                                                Expiration Date\n                                                \n                                            \n                                                Security Code\n                                                \n                                                 \n                                             \n                                        \n                                            Cardholder Name\n                                            \n                                         Total\n							\n						Refund policy(Required)To view our refund policy\, please visit our FAQ page at https://earthactivisttraining.org/about/faq/ I agree to the refund policy.Newsletter(Required)As part of this class you will be added to the EAT announcement list. You will be sent information relevant to this class\, such as the welcome letter\, class zoom link (if applicable)\, class announcements\, and updates. If one more list is to much you can unsubscribe after the class using the button at the bottom of our announcement newsletter. I would like to recieve the EAT newsletter and information about special offers.TEXT (SMS) reminderCheck here if you would like to get a TEXT message (SMS) reminder before class begins. I would like to recieve a TEXT message reminder before class\n          \n            \n            \n            \n            \n            \n            \n            \n            \n            \n            \n            \n            \n            \n        \n                        Δ
URL:https://earthactivisttraining.org/event/introduction-to-permaculture-2/2026-05-12/
CATEGORIES:Course,Land Stewardship,Online
ATTACH;FMTTYPE=image/png:https://earthactivisttraining.org/wp-content/uploads/2024/03/Intro-to-permi-Spring.png
END:VEVENT
END:VCALENDAR