BEGIN:VCALENDAR
VERSION:2.0
PRODID:-//Earth Activist Training - ECPv6.15.14//NONSGML v1.0//EN
CALSCALE:GREGORIAN
METHOD:PUBLISH
X-ORIGINAL-URL:https://earthactivisttraining.org
X-WR-CALDESC:Events for Earth Activist Training
REFRESH-INTERVAL;VALUE=DURATION:PT1H
X-Robots-Tag:noindex
X-PUBLISHED-TTL:PT1H
BEGIN:VTIMEZONE
TZID:America/Los_Angeles
BEGIN:DAYLIGHT
TZOFFSETFROM:-0800
TZOFFSETTO:-0700
TZNAME:PDT
DTSTART:20240310T100000
END:DAYLIGHT
BEGIN:STANDARD
TZOFFSETFROM:-0700
TZOFFSETTO:-0800
TZNAME:PST
DTSTART:20241103T090000
END:STANDARD
BEGIN:DAYLIGHT
TZOFFSETFROM:-0800
TZOFFSETTO:-0700
TZNAME:PDT
DTSTART:20250309T100000
END:DAYLIGHT
BEGIN:STANDARD
TZOFFSETFROM:-0700
TZOFFSETTO:-0800
TZNAME:PST
DTSTART:20251102T090000
END:STANDARD
BEGIN:DAYLIGHT
TZOFFSETFROM:-0800
TZOFFSETTO:-0700
TZNAME:PDT
DTSTART:20260308T100000
END:DAYLIGHT
BEGIN:STANDARD
TZOFFSETFROM:-0700
TZOFFSETTO:-0800
TZNAME:PST
DTSTART:20261101T090000
END:STANDARD
END:VTIMEZONE
BEGIN:VEVENT
DTSTART;TZID=America/Los_Angeles:20250604T180000
DTEND;TZID=America/Los_Angeles:20250604T190000
DTSTAMP:20260425T120618
CREATED:20250219T150730Z
LAST-MODIFIED:20250219T150732Z
UID:10000811-1749060000-1749063600@earthactivisttraining.org
SUMMARY:Social Permaculture Clinic
DESCRIPTION:Living and working in community brings connection and collaboration. Yet\, working and living with others comes with challenges too. These challenges are a natural part of the process and\, if handled well\, can strengthen ourselves and our groups. This clinic will explore tools and techniques to navigate challenging moments successfully. The format will be a mix of presentation and conversation This series is a collection of four standalone sessions. Feel free to take one\, take them all\, or mix and match. Each week has a different theme: June 25th: Dealing with Difficult People.\n\nJune 4th: Self Care\n\nJune 11th: Negotiation in Community\n\nJune 18th: Meeting FacilitationTo learn more\, please visit the Social Permaculture Clinic webpage or register below. GET MORE INFORMATION  >Register Now
URL:https://earthactivisttraining.org/event/social-permaculture-clinic/2025-06-04/
CATEGORIES:Activist,Course,Online,Social
ATTACH;FMTTYPE=image/png:https://earthactivisttraining.org/wp-content/uploads/2023/11/Social-Permaculture-Clinic-700x400-1.png
END:VEVENT
BEGIN:VEVENT
DTSTART;TZID=America/Los_Angeles:20250611T180000
DTEND;TZID=America/Los_Angeles:20250611T190000
DTSTAMP:20260425T120618
CREATED:20250219T150730Z
LAST-MODIFIED:20250219T150732Z
UID:10000812-1749664800-1749668400@earthactivisttraining.org
SUMMARY:Social Permaculture Clinic
DESCRIPTION:Living and working in community brings connection and collaboration. Yet\, working and living with others comes with challenges too. These challenges are a natural part of the process and\, if handled well\, can strengthen ourselves and our groups. This clinic will explore tools and techniques to navigate challenging moments successfully. The format will be a mix of presentation and conversation This series is a collection of four standalone sessions. Feel free to take one\, take them all\, or mix and match. Each week has a different theme: June 25th: Dealing with Difficult People.\n\nJune 4th: Self Care\n\nJune 11th: Negotiation in Community\n\nJune 18th: Meeting FacilitationTo learn more\, please visit the Social Permaculture Clinic webpage or register below. GET MORE INFORMATION  >Register Now
URL:https://earthactivisttraining.org/event/social-permaculture-clinic/2025-06-11/
CATEGORIES:Activist,Course,Online,Social
ATTACH;FMTTYPE=image/png:https://earthactivisttraining.org/wp-content/uploads/2023/11/Social-Permaculture-Clinic-700x400-1.png
END:VEVENT
BEGIN:VEVENT
DTSTART;TZID=America/Los_Angeles:20250618T180000
DTEND;TZID=America/Los_Angeles:20250618T190000
DTSTAMP:20260425T120618
CREATED:20250219T150730Z
LAST-MODIFIED:20250219T150732Z
UID:10000813-1750269600-1750273200@earthactivisttraining.org
SUMMARY:Social Permaculture Clinic
DESCRIPTION:Living and working in community brings connection and collaboration. Yet\, working and living with others comes with challenges too. These challenges are a natural part of the process and\, if handled well\, can strengthen ourselves and our groups. This clinic will explore tools and techniques to navigate challenging moments successfully. The format will be a mix of presentation and conversation This series is a collection of four standalone sessions. Feel free to take one\, take them all\, or mix and match. Each week has a different theme: June 25th: Dealing with Difficult People.\n\nJune 4th: Self Care\n\nJune 11th: Negotiation in Community\n\nJune 18th: Meeting FacilitationTo learn more\, please visit the Social Permaculture Clinic webpage or register below. GET MORE INFORMATION  >Register Now
URL:https://earthactivisttraining.org/event/social-permaculture-clinic/2025-06-18/
CATEGORIES:Activist,Course,Online,Social
ATTACH;FMTTYPE=image/png:https://earthactivisttraining.org/wp-content/uploads/2023/11/Social-Permaculture-Clinic-700x400-1.png
END:VEVENT
BEGIN:VEVENT
DTSTART;TZID=America/Los_Angeles:20250625T180000
DTEND;TZID=America/Los_Angeles:20250625T190000
DTSTAMP:20260425T120618
CREATED:20250219T150730Z
LAST-MODIFIED:20250219T150732Z
UID:10000814-1750874400-1750878000@earthactivisttraining.org
SUMMARY:Social Permaculture Clinic
DESCRIPTION:Living and working in community brings connection and collaboration. Yet\, working and living with others comes with challenges too. These challenges are a natural part of the process and\, if handled well\, can strengthen ourselves and our groups. This clinic will explore tools and techniques to navigate challenging moments successfully. The format will be a mix of presentation and conversation This series is a collection of four standalone sessions. Feel free to take one\, take them all\, or mix and match. Each week has a different theme: June 25th: Dealing with Difficult People.\n\nJune 4th: Self Care\n\nJune 11th: Negotiation in Community\n\nJune 18th: Meeting FacilitationTo learn more\, please visit the Social Permaculture Clinic webpage or register below. GET MORE INFORMATION  >Register Now
URL:https://earthactivisttraining.org/event/social-permaculture-clinic/2025-06-25/
CATEGORIES:Activist,Course,Online,Social
ATTACH;FMTTYPE=image/png:https://earthactivisttraining.org/wp-content/uploads/2023/11/Social-Permaculture-Clinic-700x400-1.png
END:VEVENT
END:VCALENDAR