BEGIN:VCALENDAR
VERSION:2.0
PRODID:-//Earth Activist Training - ECPv6.15.14//NONSGML v1.0//EN
CALSCALE:GREGORIAN
METHOD:PUBLISH
X-ORIGINAL-URL:https://earthactivisttraining.org
X-WR-CALDESC:Events for Earth Activist Training
REFRESH-INTERVAL;VALUE=DURATION:PT1H
X-Robots-Tag:noindex
X-PUBLISHED-TTL:PT1H
BEGIN:VTIMEZONE
TZID:America/Los_Angeles
BEGIN:DAYLIGHT
TZOFFSETFROM:-0800
TZOFFSETTO:-0700
TZNAME:PDT
DTSTART:20240310T100000
END:DAYLIGHT
BEGIN:STANDARD
TZOFFSETFROM:-0700
TZOFFSETTO:-0800
TZNAME:PST
DTSTART:20241103T090000
END:STANDARD
BEGIN:DAYLIGHT
TZOFFSETFROM:-0800
TZOFFSETTO:-0700
TZNAME:PDT
DTSTART:20250309T100000
END:DAYLIGHT
BEGIN:STANDARD
TZOFFSETFROM:-0700
TZOFFSETTO:-0800
TZNAME:PST
DTSTART:20251102T090000
END:STANDARD
BEGIN:DAYLIGHT
TZOFFSETFROM:-0800
TZOFFSETTO:-0700
TZNAME:PDT
DTSTART:20260308T100000
END:DAYLIGHT
BEGIN:STANDARD
TZOFFSETFROM:-0700
TZOFFSETTO:-0800
TZNAME:PST
DTSTART:20261101T090000
END:STANDARD
END:VTIMEZONE
BEGIN:VEVENT
DTSTART;TZID=America/Los_Angeles:20250731T180000
DTEND;TZID=America/Los_Angeles:20250731T193000
DTSTAMP:20260423T133204
CREATED:20250609T143522Z
LAST-MODIFIED:20250609T144039Z
UID:10000891-1753984800-1753990200@earthactivisttraining.org
SUMMARY:Designing a World of Abundance
DESCRIPTION:Abundance is clean water\, nutritious food\, healthy children\, and a thriving community. True abundance does not come from far off politicians or the economic rat race. True abundance comes from building healthy communities and landscapes. From true community connection and reciprocal relationships with ecosystems. High paced\, modern human settlements and economies generate “abundance” for a few at the expense of the many. This is by design. Humans designed our way into ecological crisis and economic collapse and we can design our way out. We can design our communities and economies for true abundance. Learn how\, in this free webinar with veteran permaculture designer Erik Ohlsen and visionary living systems designer Brandi Mack. Join us for an evening on how we design a World of Abundance and give it birth. To learn more\, please visit the Designing a World of Abundance webpage or register below. GET MORE INFORMATION  >Register Now
URL:https://earthactivisttraining.org/event/designing-a-world-of-abundance/
CATEGORIES:Advanced,Event,Land Stewardship,Online,Professional,Social
ATTACH;FMTTYPE=image/png:https://earthactivisttraining.org/wp-content/uploads/2025/06/0725-Designing-a-world-of-abundance.png
END:VEVENT
BEGIN:VEVENT
DTSTART;TZID=America/Los_Angeles:20251107T000000
DTEND;TZID=America/Los_Angeles:20251117T233000
DTSTAMP:20260423T133204
CREATED:20251104T190137Z
LAST-MODIFIED:20251104T190142Z
UID:10000900-1762473600-1763422200@earthactivisttraining.org
SUMMARY:Harvest Holiday Auction
DESCRIPTION:This November\, we are holding our annual Harvest Holiday Silent Auction to support EAT’s Scholarship program. When you bid in this silent auction\, you’re not just supporting a student\, you’re helping nurture leaders and healers who are carrying the work of regeneration forward in their communities. Together\, we can grow a future rooted in justice\, care\, and resilience. To learn more\, please visit the Harvest Holiday Auction’s webpage or register below. GET MORE INFORMATION  >
URL:https://earthactivisttraining.org/event/harvest-holiday-auction/
CATEGORIES:Advanced,Event,Land Stewardship,Online,Professional,Social
ATTACH;FMTTYPE=image/png:https://earthactivisttraining.org/wp-content/uploads/2025/10/2025-Harvest-Holiday-Auction.png
END:VEVENT
BEGIN:VEVENT
DTSTART;TZID=America/Los_Angeles:20251114T180000
DTEND;TZID=America/Los_Angeles:20251114T193000
DTSTAMP:20260423T133204
CREATED:20251104T184913Z
LAST-MODIFIED:20251104T184920Z
UID:10000899-1763143200-1763148600@earthactivisttraining.org
SUMMARY:Harvesting Resilience
DESCRIPTION:Autumn is the season of harvest and abundance. A time to gather the year’s gifts\, dig the potatoes\, and pick the winter squash. This is also a time to harvest successes after a year of adversity. We dig deep for learning and push back the media noise to pluck resilience. Join Starhawk\, Charles Williams and friends for a ritual celebrating the harvest and hearing from communities that are showing resilience. This live Zoom event will be recorded and shared with those who registered. To learn more\, please visit the Harvesting Resilience webpage or register below. GET MORE INFORMATION  >Register Now
URL:https://earthactivisttraining.org/event/harvesting-resilience/
CATEGORIES:Activist,Event,Magical,Online,Social
ATTACH;FMTTYPE=image/png:https://earthactivisttraining.org/wp-content/uploads/2025/10/Harvest-Resilience-rectangle.png
END:VEVENT
END:VCALENDAR