BEGIN:VCALENDAR
VERSION:2.0
PRODID:-//Earth Activist Training - ECPv6.15.14//NONSGML v1.0//EN
CALSCALE:GREGORIAN
METHOD:PUBLISH
X-WR-CALNAME:Earth Activist Training
X-ORIGINAL-URL:https://earthactivisttraining.org
X-WR-CALDESC:Events for Earth Activist Training
REFRESH-INTERVAL;VALUE=DURATION:PT1H
X-Robots-Tag:noindex
X-PUBLISHED-TTL:PT1H
BEGIN:VTIMEZONE
TZID:America/Los_Angeles
BEGIN:DAYLIGHT
TZOFFSETFROM:-0800
TZOFFSETTO:-0700
TZNAME:PDT
DTSTART:20240310T100000
END:DAYLIGHT
BEGIN:STANDARD
TZOFFSETFROM:-0700
TZOFFSETTO:-0800
TZNAME:PST
DTSTART:20241103T090000
END:STANDARD
BEGIN:DAYLIGHT
TZOFFSETFROM:-0800
TZOFFSETTO:-0700
TZNAME:PDT
DTSTART:20250309T100000
END:DAYLIGHT
BEGIN:STANDARD
TZOFFSETFROM:-0700
TZOFFSETTO:-0800
TZNAME:PST
DTSTART:20251102T090000
END:STANDARD
BEGIN:DAYLIGHT
TZOFFSETFROM:-0800
TZOFFSETTO:-0700
TZNAME:PDT
DTSTART:20260308T100000
END:DAYLIGHT
BEGIN:STANDARD
TZOFFSETFROM:-0700
TZOFFSETTO:-0800
TZNAME:PST
DTSTART:20261101T090000
END:STANDARD
END:VTIMEZONE
BEGIN:VEVENT
DTSTART;TZID=America/Los_Angeles:20251203T180000
DTEND;TZID=America/Los_Angeles:20251203T200000
DTSTAMP:20260422T202646
CREATED:20241203T155212Z
LAST-MODIFIED:20241203T155212Z
UID:10000718-1764784800-1764792000@earthactivisttraining.org
SUMMARY:PERMACULTURE DESIGN COURSE
DESCRIPTION:This Permaculture Design Certificate (PDC) is an internationally recognized course that teaches the basics of permaculture design. This class Included live class sessions\, access to the online network\, and resources.Earth Activist Training’s PDC builds on the basic permaculture design curriculum\, adding a grounding in spirit and community activism.Join lead instructors Starhawk and Charles Williams\, along with guest presenters for an indebted exploration of permaculture tools and techniques\, along with hands-on interactive activities. To learn more\, please visit the Permaculture Design Course webpage or register below. GET MORE INFORMATION  >Register Now
URL:https://earthactivisttraining.org/event/permaculture-design-course/2025-12-03/
CATEGORIES:Certificate/Diploma,Course,Land Stewardship,Online,Social
ATTACH;FMTTYPE=image/png:https://earthactivisttraining.org/wp-content/uploads/2023/07/PDCFALL.png
END:VEVENT
BEGIN:VEVENT
DTSTART;TZID=America/Los_Angeles:20251210T180000
DTEND;TZID=America/Los_Angeles:20251210T200000
DTSTAMP:20260422T202646
CREATED:20241203T155212Z
LAST-MODIFIED:20241203T155212Z
UID:10000719-1765389600-1765396800@earthactivisttraining.org
SUMMARY:PERMACULTURE DESIGN COURSE
DESCRIPTION:This Permaculture Design Certificate (PDC) is an internationally recognized course that teaches the basics of permaculture design. This class Included live class sessions\, access to the online network\, and resources.Earth Activist Training’s PDC builds on the basic permaculture design curriculum\, adding a grounding in spirit and community activism.Join lead instructors Starhawk and Charles Williams\, along with guest presenters for an indebted exploration of permaculture tools and techniques\, along with hands-on interactive activities. To learn more\, please visit the Permaculture Design Course webpage or register below. GET MORE INFORMATION  >Register Now
URL:https://earthactivisttraining.org/event/permaculture-design-course/2025-12-10/
CATEGORIES:Certificate/Diploma,Course,Land Stewardship,Online,Social
ATTACH;FMTTYPE=image/png:https://earthactivisttraining.org/wp-content/uploads/2023/07/PDCFALL.png
END:VEVENT
BEGIN:VEVENT
DTSTART;TZID=America/Los_Angeles:20251217T180000
DTEND;TZID=America/Los_Angeles:20251217T200000
DTSTAMP:20260422T202646
CREATED:20241203T155212Z
LAST-MODIFIED:20241203T155212Z
UID:10000720-1765994400-1766001600@earthactivisttraining.org
SUMMARY:PERMACULTURE DESIGN COURSE
DESCRIPTION:This Permaculture Design Certificate (PDC) is an internationally recognized course that teaches the basics of permaculture design. This class Included live class sessions\, access to the online network\, and resources.Earth Activist Training’s PDC builds on the basic permaculture design curriculum\, adding a grounding in spirit and community activism.Join lead instructors Starhawk and Charles Williams\, along with guest presenters for an indebted exploration of permaculture tools and techniques\, along with hands-on interactive activities. To learn more\, please visit the Permaculture Design Course webpage or register below. GET MORE INFORMATION  >Register Now
URL:https://earthactivisttraining.org/event/permaculture-design-course/2025-12-17/
CATEGORIES:Certificate/Diploma,Course,Land Stewardship,Online,Social
ATTACH;FMTTYPE=image/png:https://earthactivisttraining.org/wp-content/uploads/2023/07/PDCFALL.png
END:VEVENT
END:VCALENDAR